BEGIN:VCALENDAR
VERSION:2.0
PRODID:-//Heilgut Schloss Sambleben - ECPv6.15.12.2//NONSGML v1.0//EN
CALSCALE:GREGORIAN
METHOD:PUBLISH
X-WR-CALNAME:Heilgut Schloss Sambleben
X-ORIGINAL-URL:https://www.heilgut-sambleben.de
X-WR-CALDESC:Veranstaltungen für Heilgut Schloss Sambleben
REFRESH-INTERVAL;VALUE=DURATION:PT1H
X-Robots-Tag:noindex
X-PUBLISHED-TTL:PT1H
BEGIN:VTIMEZONE
TZID:Europe/Berlin
BEGIN:DAYLIGHT
TZOFFSETFROM:+0100
TZOFFSETTO:+0200
TZNAME:CEST
DTSTART:20250330T010000
END:DAYLIGHT
BEGIN:STANDARD
TZOFFSETFROM:+0200
TZOFFSETTO:+0100
TZNAME:CET
DTSTART:20251026T010000
END:STANDARD
BEGIN:DAYLIGHT
TZOFFSETFROM:+0100
TZOFFSETTO:+0200
TZNAME:CEST
DTSTART:20260329T010000
END:DAYLIGHT
BEGIN:STANDARD
TZOFFSETFROM:+0200
TZOFFSETTO:+0100
TZNAME:CET
DTSTART:20261025T010000
END:STANDARD
BEGIN:DAYLIGHT
TZOFFSETFROM:+0100
TZOFFSETTO:+0200
TZNAME:CEST
DTSTART:20270328T010000
END:DAYLIGHT
BEGIN:STANDARD
TZOFFSETFROM:+0200
TZOFFSETTO:+0100
TZNAME:CET
DTSTART:20271031T010000
END:STANDARD
END:VTIMEZONE
BEGIN:VEVENT
DTSTART;TZID=Europe/Berlin:20260225T100000
DTEND;TZID=Europe/Berlin:20260225T113000
DTSTAMP:20260425T175029
CREATED:20251202T151756Z
LAST-MODIFIED:20251202T151756Z
UID:238230-1772013600-1772019000@www.heilgut-sambleben.de
SUMMARY:Selbstregulierung 3
DESCRIPTION:
URL:https://www.heilgut-sambleben.de/veranstaltung/selbstregulierung-3-32/
CATEGORIES:Selbstregulierungsgruppen
END:VEVENT
BEGIN:VEVENT
DTSTART;TZID=Europe/Berlin:20260225T163000
DTEND;TZID=Europe/Berlin:20260225T180000
DTSTAMP:20260425T175029
CREATED:20251202T095944Z
LAST-MODIFIED:20251202T095944Z
UID:238205-1772037000-1772042400@www.heilgut-sambleben.de
SUMMARY:Selbstregulierung 1
DESCRIPTION:
URL:https://www.heilgut-sambleben.de/veranstaltung/selbstregulierung-1-32/
CATEGORIES:Gruppentherapie,Selbstregulierungsgruppen
END:VEVENT
END:VCALENDAR