BEGIN:VCALENDAR
VERSION:2.0
PRODID:-//Heilgut Schloss Sambleben - ECPv6.15.12.2//NONSGML v1.0//EN
CALSCALE:GREGORIAN
METHOD:PUBLISH
X-ORIGINAL-URL:https://www.heilgut-sambleben.de
X-WR-CALDESC:Veranstaltungen für Heilgut Schloss Sambleben
REFRESH-INTERVAL;VALUE=DURATION:PT1H
X-Robots-Tag:noindex
X-PUBLISHED-TTL:PT1H
BEGIN:VTIMEZONE
TZID:Europe/Berlin
BEGIN:DAYLIGHT
TZOFFSETFROM:+0100
TZOFFSETTO:+0200
TZNAME:CEST
DTSTART:20250330T010000
END:DAYLIGHT
BEGIN:STANDARD
TZOFFSETFROM:+0200
TZOFFSETTO:+0100
TZNAME:CET
DTSTART:20251026T010000
END:STANDARD
BEGIN:DAYLIGHT
TZOFFSETFROM:+0100
TZOFFSETTO:+0200
TZNAME:CEST
DTSTART:20260329T010000
END:DAYLIGHT
BEGIN:STANDARD
TZOFFSETFROM:+0200
TZOFFSETTO:+0100
TZNAME:CET
DTSTART:20261025T010000
END:STANDARD
BEGIN:DAYLIGHT
TZOFFSETFROM:+0100
TZOFFSETTO:+0200
TZNAME:CEST
DTSTART:20270328T010000
END:DAYLIGHT
BEGIN:STANDARD
TZOFFSETFROM:+0200
TZOFFSETTO:+0100
TZNAME:CET
DTSTART:20271031T010000
END:STANDARD
END:VTIMEZONE
BEGIN:VEVENT
DTSTART;TZID=Europe/Berlin:20260326T080000
DTEND;TZID=Europe/Berlin:20260326T093000
DTSTAMP:20260425T174311
CREATED:20251203T082517Z
LAST-MODIFIED:20251203T082517Z
UID:238290-1774512000-1774517400@www.heilgut-sambleben.de
SUMMARY:Beziehungsanalytische Gruppe 1
DESCRIPTION:
URL:https://www.heilgut-sambleben.de/veranstaltung/beziehungsanalytische-gruppe-1-22/
CATEGORIES:Beziehungsanalytische Gruppen
END:VEVENT
BEGIN:VEVENT
DTSTART;TZID=Europe/Berlin:20260326T100000
DTEND;TZID=Europe/Berlin:20260326T113000
DTSTAMP:20260425T174311
CREATED:20251203T095319Z
LAST-MODIFIED:20251203T095319Z
UID:238374-1774519200-1774524600@www.heilgut-sambleben.de
SUMMARY:Spirituelle Frauengruppe
DESCRIPTION:
URL:https://www.heilgut-sambleben.de/veranstaltung/spirituelle-frauengruppe-21/
CATEGORIES:Spirituelle Frauengruppe
END:VEVENT
BEGIN:VEVENT
DTSTART;TZID=Europe/Berlin:20260326T163000
DTEND;TZID=Europe/Berlin:20260326T180000
DTSTAMP:20260425T174311
CREATED:20251203T092905Z
LAST-MODIFIED:20251203T092905Z
UID:238302-1774542600-1774548000@www.heilgut-sambleben.de
SUMMARY:Beziehungsanalytische Gruppe 2
DESCRIPTION:
URL:https://www.heilgut-sambleben.de/veranstaltung/beziehungsanalytische-gruppe-2-20/
CATEGORIES:Beziehungsanalytische Gruppen
END:VEVENT
END:VCALENDAR