BEGIN:VCALENDAR
VERSION:2.0
PRODID:-//Heilgut Schloss Sambleben - ECPv6.15.12.2//NONSGML v1.0//EN
CALSCALE:GREGORIAN
METHOD:PUBLISH
X-WR-CALNAME:Heilgut Schloss Sambleben
X-ORIGINAL-URL:https://www.heilgut-sambleben.de
X-WR-CALDESC:Veranstaltungen für Heilgut Schloss Sambleben
REFRESH-INTERVAL;VALUE=DURATION:PT1H
X-Robots-Tag:noindex
X-PUBLISHED-TTL:PT1H
BEGIN:VTIMEZONE
TZID:Europe/Berlin
BEGIN:DAYLIGHT
TZOFFSETFROM:+0100
TZOFFSETTO:+0200
TZNAME:CEST
DTSTART:20250330T010000
END:DAYLIGHT
BEGIN:STANDARD
TZOFFSETFROM:+0200
TZOFFSETTO:+0100
TZNAME:CET
DTSTART:20251026T010000
END:STANDARD
BEGIN:DAYLIGHT
TZOFFSETFROM:+0100
TZOFFSETTO:+0200
TZNAME:CEST
DTSTART:20260329T010000
END:DAYLIGHT
BEGIN:STANDARD
TZOFFSETFROM:+0200
TZOFFSETTO:+0100
TZNAME:CET
DTSTART:20261025T010000
END:STANDARD
BEGIN:DAYLIGHT
TZOFFSETFROM:+0100
TZOFFSETTO:+0200
TZNAME:CEST
DTSTART:20270328T010000
END:DAYLIGHT
BEGIN:STANDARD
TZOFFSETFROM:+0200
TZOFFSETTO:+0100
TZNAME:CET
DTSTART:20271031T010000
END:STANDARD
END:VTIMEZONE
BEGIN:VEVENT
DTSTART;TZID=Europe/Berlin:20260511T100000
DTEND;TZID=Europe/Berlin:20260511T113000
DTSTAMP:20260425T172237
CREATED:20251203T081339Z
LAST-MODIFIED:20251203T081339Z
UID:238270-1778493600-1778499000@www.heilgut-sambleben.de
SUMMARY:Selbstregulierung 6
DESCRIPTION:
URL:https://www.heilgut-sambleben.de/veranstaltung/selbstregulierung-6-34/
CATEGORIES:Selbstregulierungsgruppen
END:VEVENT
BEGIN:VEVENT
DTSTART;TZID=Europe/Berlin:20260511T163000
DTEND;TZID=Europe/Berlin:20260511T180000
DTSTAMP:20260425T172237
CREATED:20251203T094325Z
LAST-MODIFIED:20251203T094325Z
UID:238354-1778517000-1778522400@www.heilgut-sambleben.de
SUMMARY:Gemischte Angst- und Depressionsgruppe (Frauen und Männer) 2
DESCRIPTION:
URL:https://www.heilgut-sambleben.de/veranstaltung/gemischte-angst-und-depressionsgruppe-frauen-und-maenner-2-5/
CATEGORIES:Angst- und Depressionsgruppen
END:VEVENT
END:VCALENDAR