BEGIN:VCALENDAR
VERSION:2.0
PRODID:-//Heilgut Schloss Sambleben - ECPv6.15.12.2//NONSGML v1.0//EN
CALSCALE:GREGORIAN
METHOD:PUBLISH
X-ORIGINAL-URL:https://www.heilgut-sambleben.de
X-WR-CALDESC:Veranstaltungen für Heilgut Schloss Sambleben
REFRESH-INTERVAL;VALUE=DURATION:PT1H
X-Robots-Tag:noindex
X-PUBLISHED-TTL:PT1H
BEGIN:VTIMEZONE
TZID:Europe/Berlin
BEGIN:DAYLIGHT
TZOFFSETFROM:+0100
TZOFFSETTO:+0200
TZNAME:CEST
DTSTART:20250330T010000
END:DAYLIGHT
BEGIN:STANDARD
TZOFFSETFROM:+0200
TZOFFSETTO:+0100
TZNAME:CET
DTSTART:20251026T010000
END:STANDARD
BEGIN:DAYLIGHT
TZOFFSETFROM:+0100
TZOFFSETTO:+0200
TZNAME:CEST
DTSTART:20260329T010000
END:DAYLIGHT
BEGIN:STANDARD
TZOFFSETFROM:+0200
TZOFFSETTO:+0100
TZNAME:CET
DTSTART:20261025T010000
END:STANDARD
BEGIN:DAYLIGHT
TZOFFSETFROM:+0100
TZOFFSETTO:+0200
TZNAME:CEST
DTSTART:20270328T010000
END:DAYLIGHT
BEGIN:STANDARD
TZOFFSETFROM:+0200
TZOFFSETTO:+0100
TZNAME:CET
DTSTART:20271031T010000
END:STANDARD
END:VTIMEZONE
BEGIN:VEVENT
DTSTART;TZID=Europe/Berlin:20260513T080000
DTEND;TZID=Europe/Berlin:20260513T093000
DTSTAMP:20260425T174311
CREATED:20251202T151505Z
LAST-MODIFIED:20251202T151505Z
UID:238224-1778659200-1778664600@www.heilgut-sambleben.de
SUMMARY:Selbstregulierung 2
DESCRIPTION:
URL:https://www.heilgut-sambleben.de/veranstaltung/selbstregulierung-2-32/
CATEGORIES:Selbstregulierungsgruppen
END:VEVENT
BEGIN:VEVENT
DTSTART;TZID=Europe/Berlin:20260513T100000
DTEND;TZID=Europe/Berlin:20260513T113000
DTSTAMP:20260425T174311
CREATED:20251203T094057Z
LAST-MODIFIED:20251203T094057Z
UID:238342-1778666400-1778671800@www.heilgut-sambleben.de
SUMMARY:Gemischte Angst- und Depressionsgruppe (Frauen und Männer) 1
DESCRIPTION:
URL:https://www.heilgut-sambleben.de/veranstaltung/gemischte-angst-und-depressionsgruppe-frauen-und-maenner-1-6/
CATEGORIES:Angst- und Depressionsgruppen
END:VEVENT
BEGIN:VEVENT
DTSTART;TZID=Europe/Berlin:20260513T160000
DTEND;TZID=Europe/Berlin:20260513T173000
DTSTAMP:20260425T174311
CREATED:20251203T082159Z
LAST-MODIFIED:20251203T082159Z
UID:238282-1778688000-1778693400@www.heilgut-sambleben.de
SUMMARY:Online Gruppe
DESCRIPTION:
URL:https://www.heilgut-sambleben.de/veranstaltung/online-gruppe-17/
CATEGORIES:Gruppentherapie
END:VEVENT
END:VCALENDAR