BEGIN:VCALENDAR
VERSION:2.0
PRODID:-//Heilgut Schloss Sambleben - ECPv6.15.12.2//NONSGML v1.0//EN
CALSCALE:GREGORIAN
METHOD:PUBLISH
X-ORIGINAL-URL:https://www.heilgut-sambleben.de
X-WR-CALDESC:Veranstaltungen für Heilgut Schloss Sambleben
REFRESH-INTERVAL;VALUE=DURATION:PT1H
X-Robots-Tag:noindex
X-PUBLISHED-TTL:PT1H
BEGIN:VTIMEZONE
TZID:Europe/Berlin
BEGIN:DAYLIGHT
TZOFFSETFROM:+0100
TZOFFSETTO:+0200
TZNAME:CEST
DTSTART:20250330T010000
END:DAYLIGHT
BEGIN:STANDARD
TZOFFSETFROM:+0200
TZOFFSETTO:+0100
TZNAME:CET
DTSTART:20251026T010000
END:STANDARD
BEGIN:DAYLIGHT
TZOFFSETFROM:+0100
TZOFFSETTO:+0200
TZNAME:CEST
DTSTART:20260329T010000
END:DAYLIGHT
BEGIN:STANDARD
TZOFFSETFROM:+0200
TZOFFSETTO:+0100
TZNAME:CET
DTSTART:20261025T010000
END:STANDARD
BEGIN:DAYLIGHT
TZOFFSETFROM:+0100
TZOFFSETTO:+0200
TZNAME:CEST
DTSTART:20270328T010000
END:DAYLIGHT
BEGIN:STANDARD
TZOFFSETFROM:+0200
TZOFFSETTO:+0100
TZNAME:CET
DTSTART:20271031T010000
END:STANDARD
END:VTIMEZONE
BEGIN:VEVENT
DTSTART;TZID=Europe/Berlin:20260610T080000
DTEND;TZID=Europe/Berlin:20260610T093000
DTSTAMP:20260425T190433
CREATED:20251202T151537Z
LAST-MODIFIED:20251202T151537Z
UID:238226-1781078400-1781083800@www.heilgut-sambleben.de
SUMMARY:Selbstregulierung 2
DESCRIPTION:
URL:https://www.heilgut-sambleben.de/veranstaltung/selbstregulierung-2-33/
CATEGORIES:Selbstregulierungsgruppen
END:VEVENT
BEGIN:VEVENT
DTSTART;TZID=Europe/Berlin:20260610T100000
DTEND;TZID=Europe/Berlin:20260610T113000
DTSTAMP:20260425T190433
CREATED:20251203T094119Z
LAST-MODIFIED:20251203T094119Z
UID:238344-1781085600-1781091000@www.heilgut-sambleben.de
SUMMARY:Gemischte Angst- und Depressionsgruppe (Frauen und Männer) 1
DESCRIPTION:
URL:https://www.heilgut-sambleben.de/veranstaltung/gemischte-angst-und-depressionsgruppe-frauen-und-maenner-1-7/
CATEGORIES:Angst- und Depressionsgruppen
END:VEVENT
BEGIN:VEVENT
DTSTART;TZID=Europe/Berlin:20260610T160000
DTEND;TZID=Europe/Berlin:20260610T173000
DTSTAMP:20260425T190433
CREATED:20251203T082216Z
LAST-MODIFIED:20251203T082216Z
UID:238284-1781107200-1781112600@www.heilgut-sambleben.de
SUMMARY:Online Gruppe
DESCRIPTION:
URL:https://www.heilgut-sambleben.de/veranstaltung/online-gruppe-18/
CATEGORIES:Gruppentherapie
END:VEVENT
END:VCALENDAR