BEGIN:VCALENDAR
VERSION:2.0
PRODID:-//Heilgut Schloss Sambleben - ECPv6.15.12.2//NONSGML v1.0//EN
CALSCALE:GREGORIAN
METHOD:PUBLISH
X-WR-CALNAME:Heilgut Schloss Sambleben
X-ORIGINAL-URL:https://www.heilgut-sambleben.de
X-WR-CALDESC:Veranstaltungen für Heilgut Schloss Sambleben
REFRESH-INTERVAL;VALUE=DURATION:PT1H
X-Robots-Tag:noindex
X-PUBLISHED-TTL:PT1H
BEGIN:VTIMEZONE
TZID:Europe/Berlin
BEGIN:DAYLIGHT
TZOFFSETFROM:+0100
TZOFFSETTO:+0200
TZNAME:CEST
DTSTART:20250330T010000
END:DAYLIGHT
BEGIN:STANDARD
TZOFFSETFROM:+0200
TZOFFSETTO:+0100
TZNAME:CET
DTSTART:20251026T010000
END:STANDARD
BEGIN:DAYLIGHT
TZOFFSETFROM:+0100
TZOFFSETTO:+0200
TZNAME:CEST
DTSTART:20260329T010000
END:DAYLIGHT
BEGIN:STANDARD
TZOFFSETFROM:+0200
TZOFFSETTO:+0100
TZNAME:CET
DTSTART:20261025T010000
END:STANDARD
BEGIN:DAYLIGHT
TZOFFSETFROM:+0100
TZOFFSETTO:+0200
TZNAME:CEST
DTSTART:20270328T010000
END:DAYLIGHT
BEGIN:STANDARD
TZOFFSETFROM:+0200
TZOFFSETTO:+0100
TZNAME:CET
DTSTART:20271031T010000
END:STANDARD
END:VTIMEZONE
BEGIN:VEVENT
DTSTART;TZID=Europe/Berlin:20260302T100000
DTEND;TZID=Europe/Berlin:20260302T113000
DTSTAMP:20260425T160344
CREATED:20251202T095218Z
LAST-MODIFIED:20251202T095218Z
UID:238183-1772445600-1772451000@www.heilgut-sambleben.de
SUMMARY:Schmerztherapie Gruppe
DESCRIPTION:
URL:https://www.heilgut-sambleben.de/veranstaltung/schmerztherapie-gruppe-15/
CATEGORIES:Gruppentherapie,Schmerztherapie und somatische Erkrankungen
END:VEVENT
BEGIN:VEVENT
DTSTART;TZID=Europe/Berlin:20260304T100000
DTEND;TZID=Europe/Berlin:20260304T113000
DTSTAMP:20260425T160344
CREATED:20251202T152334Z
LAST-MODIFIED:20251202T152334Z
UID:238244-1772618400-1772623800@www.heilgut-sambleben.de
SUMMARY:Selbstregulierung 4
DESCRIPTION:
URL:https://www.heilgut-sambleben.de/veranstaltung/selbstregulierung-4-32/
CATEGORIES:Selbstregulierungsgruppen
END:VEVENT
BEGIN:VEVENT
DTSTART;TZID=Europe/Berlin:20260309T100000
DTEND;TZID=Europe/Berlin:20260309T113000
DTSTAMP:20260425T160344
CREATED:20251203T081236Z
LAST-MODIFIED:20251203T081236Z
UID:238266-1773050400-1773055800@www.heilgut-sambleben.de
SUMMARY:Selbstregulierung 6
DESCRIPTION:
URL:https://www.heilgut-sambleben.de/veranstaltung/selbstregulierung-6-32/
CATEGORIES:Selbstregulierungsgruppen
END:VEVENT
BEGIN:VEVENT
DTSTART;TZID=Europe/Berlin:20260309T163000
DTEND;TZID=Europe/Berlin:20260309T180000
DTSTAMP:20260425T160344
CREATED:20251203T094251Z
LAST-MODIFIED:20251203T094251Z
UID:238350-1773073800-1773079200@www.heilgut-sambleben.de
SUMMARY:Gemischte Angst- und Depressionsgruppe (Frauen und Männer) 2
DESCRIPTION:
URL:https://www.heilgut-sambleben.de/veranstaltung/gemischte-angst-und-depressionsgruppe-frauen-und-maenner-2-3/
CATEGORIES:Angst- und Depressionsgruppen
END:VEVENT
BEGIN:VEVENT
DTSTART;TZID=Europe/Berlin:20260310T160000
DTEND;TZID=Europe/Berlin:20260310T173000
DTSTAMP:20260425T160344
CREATED:20251202T095613Z
LAST-MODIFIED:20251202T095613Z
UID:238195-1773158400-1773163800@www.heilgut-sambleben.de
SUMMARY:Frauengruppe
DESCRIPTION:
URL:https://www.heilgut-sambleben.de/veranstaltung/frauengruppe-33/
CATEGORIES:Frauengruppe,Gruppentherapie
END:VEVENT
BEGIN:VEVENT
DTSTART;TZID=Europe/Berlin:20260311T080000
DTEND;TZID=Europe/Berlin:20260311T093000
DTSTAMP:20260425T160344
CREATED:20251202T151409Z
LAST-MODIFIED:20251202T151409Z
UID:238220-1773216000-1773221400@www.heilgut-sambleben.de
SUMMARY:Selbstregulierung 2
DESCRIPTION:
URL:https://www.heilgut-sambleben.de/veranstaltung/selbstregulierung-2-30/
CATEGORIES:Selbstregulierungsgruppen
END:VEVENT
BEGIN:VEVENT
DTSTART;TZID=Europe/Berlin:20260311T100000
DTEND;TZID=Europe/Berlin:20260311T113000
DTSTAMP:20260425T160344
CREATED:20251203T093952Z
LAST-MODIFIED:20251203T093952Z
UID:238338-1773223200-1773228600@www.heilgut-sambleben.de
SUMMARY:Gemischte Angst- und Depressionsgruppe (Frauen und Männer) 1
DESCRIPTION:
URL:https://www.heilgut-sambleben.de/veranstaltung/gemischte-angst-und-depressionsgruppe-frauen-und-maenner-1-4/
CATEGORIES:Angst- und Depressionsgruppen
END:VEVENT
BEGIN:VEVENT
DTSTART;TZID=Europe/Berlin:20260311T160000
DTEND;TZID=Europe/Berlin:20260311T173000
DTSTAMP:20260425T160344
CREATED:20251203T082119Z
LAST-MODIFIED:20251203T082119Z
UID:238278-1773244800-1773250200@www.heilgut-sambleben.de
SUMMARY:Online Gruppe
DESCRIPTION:
URL:https://www.heilgut-sambleben.de/veranstaltung/online-gruppe-15/
CATEGORIES:Gruppentherapie
END:VEVENT
BEGIN:VEVENT
DTSTART;TZID=Europe/Berlin:20260312T100000
DTEND;TZID=Europe/Berlin:20260312T113000
DTSTAMP:20260425T160344
CREATED:20251203T093454Z
LAST-MODIFIED:20251203T093454Z
UID:238314-1773309600-1773315000@www.heilgut-sambleben.de
SUMMARY:Angst- und Depressionsgruppe für Frauen 1
DESCRIPTION:
URL:https://www.heilgut-sambleben.de/veranstaltung/angst-und-depressionsgruppe-fuer-frauen-1-3/
CATEGORIES:Angst- und Depressionsgruppen
END:VEVENT
BEGIN:VEVENT
DTSTART;TZID=Europe/Berlin:20260324T163000
DTEND;TZID=Europe/Berlin:20260324T180000
DTSTAMP:20260425T160344
CREATED:20251203T094533Z
LAST-MODIFIED:20251203T094533Z
UID:238362-1774369800-1774375200@www.heilgut-sambleben.de
SUMMARY:Gemischte Angst- und Depressionsgruppe (Frauen und Männer) 3
DESCRIPTION:
URL:https://www.heilgut-sambleben.de/veranstaltung/gemischte-angst-und-depressionsgruppe-frauen-und-maenner-3-3/
CATEGORIES:Angst- und Depressionsgruppen
END:VEVENT
BEGIN:VEVENT
DTSTART;TZID=Europe/Berlin:20260325T100000
DTEND;TZID=Europe/Berlin:20260325T113000
DTSTAMP:20260425T160344
CREATED:20251202T151824Z
LAST-MODIFIED:20251202T151824Z
UID:238232-1774432800-1774438200@www.heilgut-sambleben.de
SUMMARY:Selbstregulierung 3
DESCRIPTION:
URL:https://www.heilgut-sambleben.de/veranstaltung/selbstregulierung-3-33/
CATEGORIES:Selbstregulierungsgruppen
END:VEVENT
BEGIN:VEVENT
DTSTART;TZID=Europe/Berlin:20260325T163000
DTEND;TZID=Europe/Berlin:20260325T180000
DTSTAMP:20260425T160344
CREATED:20251202T100009Z
LAST-MODIFIED:20251202T100009Z
UID:238207-1774456200-1774461600@www.heilgut-sambleben.de
SUMMARY:Selbstregulierung 1
DESCRIPTION:
URL:https://www.heilgut-sambleben.de/veranstaltung/selbstregulierung-1-33/
CATEGORIES:Gruppentherapie,Selbstregulierungsgruppen
END:VEVENT
BEGIN:VEVENT
DTSTART;TZID=Europe/Berlin:20260326T080000
DTEND;TZID=Europe/Berlin:20260326T093000
DTSTAMP:20260425T160344
CREATED:20251203T082517Z
LAST-MODIFIED:20251203T082517Z
UID:238290-1774512000-1774517400@www.heilgut-sambleben.de
SUMMARY:Beziehungsanalytische Gruppe 1
DESCRIPTION:
URL:https://www.heilgut-sambleben.de/veranstaltung/beziehungsanalytische-gruppe-1-22/
CATEGORIES:Beziehungsanalytische Gruppen
END:VEVENT
BEGIN:VEVENT
DTSTART;TZID=Europe/Berlin:20260326T100000
DTEND;TZID=Europe/Berlin:20260326T113000
DTSTAMP:20260425T160344
CREATED:20251203T095319Z
LAST-MODIFIED:20251203T095319Z
UID:238374-1774519200-1774524600@www.heilgut-sambleben.de
SUMMARY:Spirituelle Frauengruppe
DESCRIPTION:
URL:https://www.heilgut-sambleben.de/veranstaltung/spirituelle-frauengruppe-21/
CATEGORIES:Spirituelle Frauengruppe
END:VEVENT
BEGIN:VEVENT
DTSTART;TZID=Europe/Berlin:20260326T163000
DTEND;TZID=Europe/Berlin:20260326T180000
DTSTAMP:20260425T160344
CREATED:20251203T092905Z
LAST-MODIFIED:20251203T092905Z
UID:238302-1774542600-1774548000@www.heilgut-sambleben.de
SUMMARY:Beziehungsanalytische Gruppe 2
DESCRIPTION:
URL:https://www.heilgut-sambleben.de/veranstaltung/beziehungsanalytische-gruppe-2-20/
CATEGORIES:Beziehungsanalytische Gruppen
END:VEVENT
BEGIN:VEVENT
DTSTART;TZID=Europe/Berlin:20260327T100000
DTEND;TZID=Europe/Berlin:20260327T113000
DTSTAMP:20260425T160344
CREATED:20251203T093714Z
LAST-MODIFIED:20251203T093714Z
UID:238326-1774605600-1774611000@www.heilgut-sambleben.de
SUMMARY:Angst- und Depressionsgruppe für Frauen 2
DESCRIPTION:
URL:https://www.heilgut-sambleben.de/veranstaltung/angst-und-depressionsgruppe-fuer-frauen-2-3/
CATEGORIES:Angst- und Depressionsgruppen
END:VEVENT
BEGIN:VEVENT
DTSTART;TZID=Europe/Berlin:20260331T163000
DTEND;TZID=Europe/Berlin:20260331T180000
DTSTAMP:20260425T160344
CREATED:20251203T095527Z
LAST-MODIFIED:20251203T095527Z
UID:238386-1774974600-1774980000@www.heilgut-sambleben.de
SUMMARY:Gemischte Spirituelle Gruppe (Frauen und Männer)
DESCRIPTION:
URL:https://www.heilgut-sambleben.de/veranstaltung/gemischte-spirituelle-gruppe-frauen-und-maenner-15/
CATEGORIES:Spirituelle Gruppe
END:VEVENT
END:VCALENDAR