BEGIN:VCALENDAR
VERSION:2.0
PRODID:-//Heilgut Schloss Sambleben - ECPv6.15.12.2//NONSGML v1.0//EN
CALSCALE:GREGORIAN
METHOD:PUBLISH
X-WR-CALNAME:Heilgut Schloss Sambleben
X-ORIGINAL-URL:https://www.heilgut-sambleben.de
X-WR-CALDESC:Veranstaltungen für Heilgut Schloss Sambleben
REFRESH-INTERVAL;VALUE=DURATION:PT1H
X-Robots-Tag:noindex
X-PUBLISHED-TTL:PT1H
BEGIN:VTIMEZONE
TZID:Europe/Berlin
BEGIN:DAYLIGHT
TZOFFSETFROM:+0100
TZOFFSETTO:+0200
TZNAME:CEST
DTSTART:20250330T010000
END:DAYLIGHT
BEGIN:STANDARD
TZOFFSETFROM:+0200
TZOFFSETTO:+0100
TZNAME:CET
DTSTART:20251026T010000
END:STANDARD
BEGIN:DAYLIGHT
TZOFFSETFROM:+0100
TZOFFSETTO:+0200
TZNAME:CEST
DTSTART:20260329T010000
END:DAYLIGHT
BEGIN:STANDARD
TZOFFSETFROM:+0200
TZOFFSETTO:+0100
TZNAME:CET
DTSTART:20261025T010000
END:STANDARD
BEGIN:DAYLIGHT
TZOFFSETFROM:+0100
TZOFFSETTO:+0200
TZNAME:CEST
DTSTART:20270328T010000
END:DAYLIGHT
BEGIN:STANDARD
TZOFFSETFROM:+0200
TZOFFSETTO:+0100
TZNAME:CET
DTSTART:20271031T010000
END:STANDARD
END:VTIMEZONE
BEGIN:VEVENT
DTSTART;TZID=Europe/Berlin:20260601T100000
DTEND;TZID=Europe/Berlin:20260601T113000
DTSTAMP:20260425T172304
CREATED:20251202T095411Z
LAST-MODIFIED:20251202T095411Z
UID:238189-1780308000-1780313400@www.heilgut-sambleben.de
SUMMARY:Schmerztherapie Gruppe
DESCRIPTION:
URL:https://www.heilgut-sambleben.de/veranstaltung/schmerztherapie-gruppe-18/
CATEGORIES:Gruppentherapie,Schmerztherapie und somatische Erkrankungen
END:VEVENT
BEGIN:VEVENT
DTSTART;TZID=Europe/Berlin:20260602T160000
DTEND;TZID=Europe/Berlin:20260602T173000
DTSTAMP:20260425T172304
CREATED:20251202T095758Z
LAST-MODIFIED:20251202T095758Z
UID:238201-1780416000-1780421400@www.heilgut-sambleben.de
SUMMARY:Frauengruppe
DESCRIPTION:
URL:https://www.heilgut-sambleben.de/veranstaltung/frauengruppe-36/
CATEGORIES:Frauengruppe,Gruppentherapie
END:VEVENT
BEGIN:VEVENT
DTSTART;TZID=Europe/Berlin:20260603T100000
DTEND;TZID=Europe/Berlin:20260603T113000
DTSTAMP:20260425T172304
CREATED:20251202T152601Z
LAST-MODIFIED:20251202T152601Z
UID:238250-1780480800-1780486200@www.heilgut-sambleben.de
SUMMARY:Selbstregulierung 4
DESCRIPTION:
URL:https://www.heilgut-sambleben.de/veranstaltung/selbstregulierung-4-35/
CATEGORIES:Selbstregulierungsgruppen
END:VEVENT
BEGIN:VEVENT
DTSTART;TZID=Europe/Berlin:20260604T100000
DTEND;TZID=Europe/Berlin:20260604T113000
DTSTAMP:20260425T172304
CREATED:20251203T093550Z
LAST-MODIFIED:20251203T093550Z
UID:238320-1780567200-1780572600@www.heilgut-sambleben.de
SUMMARY:Angst- und Depressionsgruppe für Frauen 1
DESCRIPTION:
URL:https://www.heilgut-sambleben.de/veranstaltung/angst-und-depressionsgruppe-fuer-frauen-1-6/
CATEGORIES:Angst- und Depressionsgruppen
END:VEVENT
BEGIN:VEVENT
DTSTART;TZID=Europe/Berlin:20260608T100000
DTEND;TZID=Europe/Berlin:20260608T113000
DTSTAMP:20260425T172304
CREATED:20251203T081424Z
LAST-MODIFIED:20251203T081424Z
UID:238272-1780912800-1780918200@www.heilgut-sambleben.de
SUMMARY:Selbstregulierung 6
DESCRIPTION:
URL:https://www.heilgut-sambleben.de/veranstaltung/selbstregulierung-6-35/
CATEGORIES:Selbstregulierungsgruppen
END:VEVENT
BEGIN:VEVENT
DTSTART;TZID=Europe/Berlin:20260608T163000
DTEND;TZID=Europe/Berlin:20260608T180000
DTSTAMP:20260425T172304
CREATED:20251203T094348Z
LAST-MODIFIED:20251203T094348Z
UID:238356-1780936200-1780941600@www.heilgut-sambleben.de
SUMMARY:Gemischte Angst- und Depressionsgruppe (Frauen und Männer) 2
DESCRIPTION:
URL:https://www.heilgut-sambleben.de/veranstaltung/gemischte-angst-und-depressionsgruppe-frauen-und-maenner-2-6/
CATEGORIES:Angst- und Depressionsgruppen
END:VEVENT
BEGIN:VEVENT
DTSTART;TZID=Europe/Berlin:20260610T080000
DTEND;TZID=Europe/Berlin:20260610T093000
DTSTAMP:20260425T172304
CREATED:20251202T151537Z
LAST-MODIFIED:20251202T151537Z
UID:238226-1781078400-1781083800@www.heilgut-sambleben.de
SUMMARY:Selbstregulierung 2
DESCRIPTION:
URL:https://www.heilgut-sambleben.de/veranstaltung/selbstregulierung-2-33/
CATEGORIES:Selbstregulierungsgruppen
END:VEVENT
BEGIN:VEVENT
DTSTART;TZID=Europe/Berlin:20260610T100000
DTEND;TZID=Europe/Berlin:20260610T113000
DTSTAMP:20260425T172304
CREATED:20251203T094119Z
LAST-MODIFIED:20251203T094119Z
UID:238344-1781085600-1781091000@www.heilgut-sambleben.de
SUMMARY:Gemischte Angst- und Depressionsgruppe (Frauen und Männer) 1
DESCRIPTION:
URL:https://www.heilgut-sambleben.de/veranstaltung/gemischte-angst-und-depressionsgruppe-frauen-und-maenner-1-7/
CATEGORIES:Angst- und Depressionsgruppen
END:VEVENT
BEGIN:VEVENT
DTSTART;TZID=Europe/Berlin:20260610T160000
DTEND;TZID=Europe/Berlin:20260610T173000
DTSTAMP:20260425T172304
CREATED:20251203T082216Z
LAST-MODIFIED:20251203T082216Z
UID:238284-1781107200-1781112600@www.heilgut-sambleben.de
SUMMARY:Online Gruppe
DESCRIPTION:
URL:https://www.heilgut-sambleben.de/veranstaltung/online-gruppe-18/
CATEGORIES:Gruppentherapie
END:VEVENT
BEGIN:VEVENT
DTSTART;TZID=Europe/Berlin:20260611T160000
DTEND;TZID=Europe/Berlin:20260611T173000
DTSTAMP:20260425T172304
CREATED:20251202T153143Z
LAST-MODIFIED:20251202T153143Z
UID:238260-1781193600-1781199000@www.heilgut-sambleben.de
SUMMARY:Selbstregulierung 5
DESCRIPTION:
URL:https://www.heilgut-sambleben.de/veranstaltung/selbstregulierung-5-34/
CATEGORIES:Selbstregulierungsgruppen
END:VEVENT
BEGIN:VEVENT
DTSTART;TZID=Europe/Berlin:20260623T163000
DTEND;TZID=Europe/Berlin:20260623T180000
DTSTAMP:20260425T172304
CREATED:20251203T094636Z
LAST-MODIFIED:20251203T094636Z
UID:238368-1782232200-1782237600@www.heilgut-sambleben.de
SUMMARY:Gemischte Angst- und Depressionsgruppe (Frauen und Männer) 3
DESCRIPTION:
URL:https://www.heilgut-sambleben.de/veranstaltung/gemischte-angst-und-depressionsgruppe-frauen-und-maenner-3-6/
CATEGORIES:Angst- und Depressionsgruppen
END:VEVENT
BEGIN:VEVENT
DTSTART;TZID=Europe/Berlin:20260624T100000
DTEND;TZID=Europe/Berlin:20260624T113000
DTSTAMP:20260425T172304
CREATED:20251202T152032Z
LAST-MODIFIED:20251202T152032Z
UID:238238-1782295200-1782300600@www.heilgut-sambleben.de
SUMMARY:Selbstregulierung 3
DESCRIPTION:
URL:https://www.heilgut-sambleben.de/veranstaltung/selbstregulierung-3-36/
CATEGORIES:Selbstregulierungsgruppen
END:VEVENT
BEGIN:VEVENT
DTSTART;TZID=Europe/Berlin:20260624T163000
DTEND;TZID=Europe/Berlin:20260624T180000
DTSTAMP:20260425T172304
CREATED:20251202T100121Z
LAST-MODIFIED:20251202T100121Z
UID:238213-1782318600-1782324000@www.heilgut-sambleben.de
SUMMARY:Selbstregulierung 1
DESCRIPTION:
URL:https://www.heilgut-sambleben.de/veranstaltung/selbstregulierung-1-36/
CATEGORIES:Selbstregulierungsgruppen
END:VEVENT
BEGIN:VEVENT
DTSTART;TZID=Europe/Berlin:20260625T080000
DTEND;TZID=Europe/Berlin:20260625T093000
DTSTAMP:20260425T172304
CREATED:20251203T082629Z
LAST-MODIFIED:20251203T082629Z
UID:238296-1782374400-1782379800@www.heilgut-sambleben.de
SUMMARY:Beziehungsanalytische Gruppe 1
DESCRIPTION:
URL:https://www.heilgut-sambleben.de/veranstaltung/beziehungsanalytische-gruppe-1-25/
CATEGORIES:Beziehungsanalytische Gruppen
END:VEVENT
BEGIN:VEVENT
DTSTART;TZID=Europe/Berlin:20260625T100000
DTEND;TZID=Europe/Berlin:20260625T113000
DTSTAMP:20260425T172304
CREATED:20251203T095420Z
LAST-MODIFIED:20251203T095420Z
UID:238380-1782381600-1782387000@www.heilgut-sambleben.de
SUMMARY:Spirituelle Frauengruppe
DESCRIPTION:
URL:https://www.heilgut-sambleben.de/veranstaltung/spirituelle-frauengruppe-24/
CATEGORIES:Spirituelle Frauengruppe
END:VEVENT
BEGIN:VEVENT
DTSTART;TZID=Europe/Berlin:20260625T163000
DTEND;TZID=Europe/Berlin:20260625T180000
DTSTAMP:20260425T172304
CREATED:20251203T093121Z
LAST-MODIFIED:20251203T093121Z
UID:238308-1782405000-1782410400@www.heilgut-sambleben.de
SUMMARY:Beziehungsanalytische Gruppe 2
DESCRIPTION:
URL:https://www.heilgut-sambleben.de/veranstaltung/beziehungsanalytische-gruppe-2-23/
CATEGORIES:Beziehungsanalytische Gruppen
END:VEVENT
BEGIN:VEVENT
DTSTART;TZID=Europe/Berlin:20260626T100000
DTEND;TZID=Europe/Berlin:20260626T113000
DTSTAMP:20260425T172304
CREATED:20251203T093846Z
LAST-MODIFIED:20251203T093846Z
UID:238332-1782468000-1782473400@www.heilgut-sambleben.de
SUMMARY:Angst- und Depressionsgruppe für Frauen 2
DESCRIPTION:
URL:https://www.heilgut-sambleben.de/veranstaltung/angst-und-depressionsgruppe-fuer-frauen-2-6/
CATEGORIES:Angst- und Depressionsgruppen
END:VEVENT
BEGIN:VEVENT
DTSTART;TZID=Europe/Berlin:20260630T163000
DTEND;TZID=Europe/Berlin:20260630T180000
DTSTAMP:20260425T172304
CREATED:20251203T095621Z
LAST-MODIFIED:20251203T095621Z
UID:238392-1782837000-1782842400@www.heilgut-sambleben.de
SUMMARY:Gemischte Spirituelle Gruppe (Frauen und Männer)
DESCRIPTION:
URL:https://www.heilgut-sambleben.de/veranstaltung/gemischte-spirituelle-gruppe-frauen-und-maenner-18/
CATEGORIES:Spirituelle Gruppe
END:VEVENT
END:VCALENDAR